BEGIN:VCALENDAR
VERSION:2.0
CALSCALE:GREGORIAN
METHOD:PUBLISH
PRODID://SFTE//515131
BEGIN:VEVENT
DTSTAMP:20260419T122912
VTIMEZONE:America/Chicago
DTSTART:20260605T230000Z
DTEND:20260606T010000Z
UID:515131
SUMMARY:North Texas Chapter - SFTE/SETP First Friday Beer Call 
LOCATION:The Flying Saucer Draught Emporium, 111 E 3rd St, Ft. Worth, TX, 76102
DESCRIPTION:North Texas Chapter - SFTE/SETP First Friday Beer Call \n\n06/05/26 06:00 PM CST\n - 06/05/26 08:00 PM CST\Description:\nJoin the North Texas Chapter and the SETP Southwest Section on the First Friday of even-numbered months at the Flying Saucer Draught Emporium!\Details:\nJoin the North Texas Chapter and the SETP Southwest Section on the First Friday of even-numbered months at the Flying Saucer Draught Emporium!\Location:\nThe Flying Saucer Draught Emporium\n111 E 3rd St\nFt. Worth, TX 76102
X-ALT-DESC;FMTTYPE=text/html:North Texas Chapter - SFTE/SETP First Friday Beer Call <br /><br />06/05/26 06:00 PM CST - 06/05/26 08:00 PM CST<br />Description:<br />Join the North Texas Chapter and the SETP Southwest Section&nbsp;on the First Friday of even-numbered months at the Flying Saucer Draught Emporium!<br />Details:<br />Join the North Texas Chapter and the SETP Southwest Section&nbsp;on the First Friday of even-numbered months at the Flying Saucer Draught Emporium!<br />Location:<br />The Flying Saucer Draught Emporium<br />111 E 3rd St<br />Ft. Worth, TX 76102
PRIORITY:3
TRANSP:TRANSPARENT
BEGIN:VALARM
TRIGGER:-PT5M
ACTION:DISPLAY
DESCRIPTION:Reminder
END:VALARM
END:VEVENT
END:VCALENDAR
