BEGIN:VCALENDAR
VERSION:2.0
CALSCALE:GREGORIAN
METHOD:PUBLISH
PRODID://SFTE//474488
BEGIN:VEVENT
DTSTAMP:20260419T083524
VTIMEZONE:America/Los_Angeles
DTSTART:20260116T163000Z
DTEND:20260116T180000Z
UID:474488
SUMMARY:SFTE Board of Director Meeting
LOCATION:
DESCRIPTION:SFTE Board of Director Meeting\n\n01/16/26 08:30 AM PST\n - 01/16/26 10:00 AM PST\Description:\nMonthly Board of Directors Meeting.\n\nFor dial in details please contact secretary@sfte.org
X-ALT-DESC;FMTTYPE=text/html:SFTE Board of Director Meeting<br /><br />01/16/26 08:30 AM PST - 01/16/26 10:00 AM PST<br />Description:<br />Monthly Board of Directors Meeting.<br />
<br />
For dial in details please contact <a href="mailto:secretary@sfte.org">secretary@sfte.org</a>
PRIORITY:3
TRANSP:TRANSPARENT
BEGIN:VALARM
TRIGGER:-PT5M
ACTION:DISPLAY
DESCRIPTION:Reminder
END:VALARM
END:VEVENT
END:VCALENDAR
