BEGIN:VCALENDAR
VERSION:2.0
CALSCALE:GREGORIAN
METHOD:PUBLISH
PRODID://SFTE//465924
BEGIN:VEVENT
DTSTAMP:20260420T012508
VTIMEZONE:America/Los_Angeles
DTSTART:20251120T020000Z
DTEND:20251120T040000Z
UID:465924
SUMMARY:Seattle SFTE - Movie Night - How To Train Your Dragon (2010)
LOCATION:King County International Airport - Terminal Building, 7277 Perimeter Rd S, Seattle, WA, 98108
DESCRIPTION:Seattle SFTE - Movie Night - How To Train Your Dragon (2010)\n\n11/19/25 06:00 PM PST\n - 11/19/25 08:00 PM PST\Description:\nJoin us as we observe the initial airworthiness campaign of a novel design used for stability & control augmentation during flight of the "Toothless" dragon. Snacks and popcorn will be provided. SFTE members: Free, Non-members: $5.\n\n\nLocation:\n\nKing County International Airport - Terminal Building\n\n7277 Perimeter Rd S\n\nSeattle, WA 98108\n\nFirst Floor Conference Room 110\n\Details:\nJoin us as we observe the initial airworthiness campaign of a novel design used for stability & control augmentation during flight of the "Toothless" dragon. Snacks and popcorn will be provided. SFTE members: Free, Non-members: $5.\n\n\nLocation:\n\nKing County International Airport - Terminal Building\n\n7277 Perimeter Rd S\n\nSeattle, WA 98108\n\nFirst Floor Conference Room 110\n\Location:\nKing County International Airport - Terminal Building\n7277 Perimeter Rd S\nSeattle, WA 98108
X-ALT-DESC;FMTTYPE=text/html:Seattle SFTE - Movie Night - How To Train Your Dragon (2010)<br /><br />11/19/25 06:00 PM PST - 11/19/25 08:00 PM PST<br />Description:<br /><p style="margin:0in"><span style="color:#4D4D4D; font-family:open sans,sans-serif; font-size:10.5pt">Join us as we observe the initial airworthiness campaign of a novel design used for stability &amp; control augmentation during flight of the &quot;Toothless&quot; dragon. Snacks and popcorn will be provided. SFTE members: Free, Non-members: $5.</span></p>

<p style="margin:0in"><br />
<span style="color:#4D4D4D; font-family:open sans,sans-serif; font-size:10.5pt">Location:</span></p>

<p style="margin:0in"><span style="color:#4D4D4D; font-family:open sans,sans-serif; font-size:10.5pt">King County International Airport - Terminal Building</span></p>

<p style="margin:0in"><span style="color:#4D4D4D; font-family:open sans,sans-serif; font-size:10.5pt">7277 Perimeter Rd S</span></p>

<p style="margin:0in"><span style="color:#4D4D4D; font-family:open sans,sans-serif; font-size:10.5pt">Seattle, WA 98108</span></p>

<p style="margin:0in"><span style="color:#4D4D4D; font-family:open sans,sans-serif; font-size:10.5pt">First Floor Conference Room 110</span></p>
<br />Details:<br /><p style="margin:0in"><span style="color:#4D4D4D; font-family:open sans,sans-serif; font-size:10.5pt">Join us as we observe the initial airworthiness campaign of a novel design used for stability &amp; control augmentation during flight of the &quot;Toothless&quot; dragon. Snacks and popcorn will be provided. SFTE members: Free, Non-members: $5.</span></p>

<p style="margin:0in"><br />
<span style="color:#4D4D4D; font-family:open sans,sans-serif; font-size:10.5pt">Location:</span></p>

<p style="margin:0in"><span style="color:#4D4D4D; font-family:open sans,sans-serif; font-size:10.5pt">King County International Airport - Terminal Building</span></p>

<p style="margin:0in"><span style="color:#4D4D4D; font-family:open sans,sans-serif; font-size:10.5pt">7277 Perimeter Rd S</span></p>

<p style="margin:0in"><span style="color:#4D4D4D; font-family:open sans,sans-serif; font-size:10.5pt">Seattle, WA 98108</span></p>

<p style="margin:0in"><span style="color:#4D4D4D; font-family:open sans,sans-serif; font-size:10.5pt">First Floor Conference Room 110</span></p>
<br />Location:<br />King County International Airport - Terminal Building<br />7277 Perimeter Rd S<br />Seattle, WA 98108
PRIORITY:3
TRANSP:TRANSPARENT
BEGIN:VALARM
TRIGGER:-PT5M
ACTION:DISPLAY
DESCRIPTION:Reminder
END:VALARM
END:VEVENT
END:VCALENDAR
