BEGIN:VCALENDAR
VERSION:2.0
CALSCALE:GREGORIAN
METHOD:PUBLISH
PRODID://SFTE//464806
BEGIN:VEVENT
DTSTAMP:20260420T050011
VTIMEZONE:America/New_York
DTSTART:20251111T230000Z
DTEND:20251112T010000Z
UID:464806
SUMMARY:Canada Chapter - Montreal Meet Up
LOCATION:3 Brasseurs - Centropolis Laval, 2900 Av. Pierre-PÃ©ladeau, Laval, QC, H7T 2X1
DESCRIPTION:Canada Chapter - Montreal Meet Up\n\n11/11/25 06:00 PM EST\n - 11/11/25 08:00 PM EST\Description:\nCalling all flight testers in the Montreal regoin - come meet up to discuss goings on in flight test and find out more about SFTE with Canadian Chapter Members and SFTE Vice President Ben Povall.\n\nNo RSVP needed, drop in and stay a while at 3 Brasseurs - Centropolis Laval, 1800 till about 2000ish\Location:\n3 Brasseurs - Centropolis Laval\n2900 Av. Pierre-PÃ©ladeau\nLaval, QC H7T 2X1
X-ALT-DESC;FMTTYPE=text/html:Canada Chapter - Montreal Meet Up<br /><br />11/11/25 06:00 PM EST - 11/11/25 08:00 PM EST<br />Description:<br />Calling all flight testers in the Montreal regoin - come meet up to discuss goings on in flight test and find out more about SFTE with Canadian Chapter Members and SFTE Vice President Ben Povall.<br />
<br />
No RSVP needed, drop in and stay a while at&nbsp;3 Brasseurs - Centropolis Laval, 1800 till about 2000ish<br />Location:<br />3 Brasseurs - Centropolis Laval<br />2900 Av. Pierre-PÃ©ladeau<br />Laval, QC H7T 2X1
PRIORITY:3
TRANSP:TRANSPARENT
BEGIN:VALARM
TRIGGER:-PT5M
ACTION:DISPLAY
DESCRIPTION:Reminder
END:VALARM
END:VEVENT
END:VCALENDAR
