BEGIN:VCALENDAR
VERSION:2.0
CALSCALE:GREGORIAN
METHOD:PUBLISH
PRODID://SFTE//463989
BEGIN:VEVENT
DTSTAMP:20260419T234921
VTIMEZONE:America/Chicago
DTSTART:20251113T170000Z
DTEND:20251113T180000Z
UID:463989
SUMMARY:SFTE Tech Council Webinar: What is the "Handbook of the Futureâ„¢"?
LOCATION:https://meet.google.com/mpg-vktj-ncs
DESCRIPTION:SFTE Tech Council Webinar: What is the "Handbook of the Futureâ„¢"?\n\n11/13/25 11:00 AM CST\n - 11/13/25 12:00 PM CST\Description:\nWhat does the "Handbook of the Future™" look like? What content does it hold? What value can it provide? The information landscape in 2025 is significantly different than 1998, when the first editors of the SFTE Reference Handbook were crafting it in WordPerfect and Microsoft Publisher. For perspective, 1998 was 27 years ago, and 27 years before that was 1971. 1971 was the year the first email was sent on the ARPANET, introducing the @ symbol, and it was the first e-book, a hand-typed version of the Declaration of Independence. Five years ago, COVID provided the time to convert the SFTE Reference Handbook from obsolete and proprietary formats to a more durable plain text format that includes a means for rendering into both PDF for printing and HTML for web browsers. Better, but still static. Current technology allows for more dynamic, interactive content with relatively low effort. \n\nJoin us for a peek at what could be, as well as an active discussion about what information Flight Test Engineers today and tomorrow most need.\n\Location:\nhttps://meet.google.com/mpg-vktj-ncs\n\n,
X-ALT-DESC;FMTTYPE=text/html:SFTE Tech Council Webinar: What is the "Handbook of the Futureâ„¢"?<br /><br />11/13/25 11:00 AM CST - 11/13/25 12:00 PM CST<br />Description:<br /><p>What does the &quot;Handbook of the Future&trade;&quot; look like? What content does it hold? What value can it provide? The information landscape in 2025 is significantly different than 1998, when the first editors of the SFTE Reference Handbook were crafting it in WordPerfect and Microsoft Publisher. For perspective, 1998 was 27 years ago, and 27 years before that was 1971. 1971 was the year the first email was sent on the ARPANET, introducing the&nbsp;@ symbol, and it was the first e-book, a hand-typed version of the Declaration of Independence. Five years ago, COVID provided the time to convert the SFTE Reference Handbook from obsolete and proprietary formats to a more durable plain text format that includes a means for rendering into both PDF for printing and HTML for web browsers. Better, but still static. Current technology allows for more dynamic, interactive content with relatively low effort.&nbsp;</p>

<p>Join us for a peek at what could be, as well as an active discussion about what information Flight Test Engineers today and tomorrow most need.</p>
<br />Location:<br />https://meet.google.com/mpg-vktj-ncs<br /><br />,  
PRIORITY:3
TRANSP:TRANSPARENT
BEGIN:VALARM
TRIGGER:-PT5M
ACTION:DISPLAY
DESCRIPTION:Reminder
END:VALARM
END:VEVENT
END:VCALENDAR
