BEGIN:VCALENDAR
VERSION:2.0
CALSCALE:GREGORIAN
METHOD:PUBLISH
PRODID://SFTE//463370
BEGIN:VEVENT
DTSTAMP:20260420T012438
VTIMEZONE:America/Chicago
DTSTART:20251113T233000Z
DTEND:20251114T020000Z
UID:463370
SUMMARY:Wichita Chapter - CRM Recurrent and Escape Room Challenge
LOCATION:Picasso's Pizza followed by The Room, 621 W Douglas Ave, Wichita, KS, 67213
DESCRIPTION:Wichita Chapter - CRM Recurrent and Escape Room Challenge\n\n11/13/25 05:30 PM CST\n - 11/13/25 08:00 PM CST\Description:\nSFTE Wichita's next event is inspired by a training concept developed at Boeing which was presented at the International Symposium just a couple weeks ago. Please check out that paper when it is posted to the database!\n\nWe will do a review of Crew Resource Management (CRM) and then head over to an Escape Room to test out your CRM skills! \n\n\n \Details:\nWhen: November 13, 2025 at 5:30 PM (Escape Room booked at 7PM)\nWhere: Picasso's Pizza (621 W Douglas) followed by The Room (617 W Douglas)\nCost: Pizza/beer is free, $25 if you participate in the Escape Room\nHow to sign up: RSVP Here!\nHow to pay: Please pay us for the Escape Room via Square at this link.\Location:\nPicasso's Pizza followed by The Room\n621 W Douglas Ave\nWichita, KS 67213
X-ALT-DESC;FMTTYPE=text/html:Wichita Chapter - CRM Recurrent and Escape Room Challenge<br /><br />11/13/25 05:30 PM CST - 11/13/25 08:00 PM CST<br />Description:<br />SFTE Wichita's next event is inspired by a training concept developed at Boeing which was presented at the International Symposium just a couple weeks ago. Please check out that paper when it is posted to the database!<br />
<br />
We will do a review of Crew Resource Management&nbsp;(CRM) and then head over to an Escape Room to test out your CRM skills!&nbsp;<br />
<br />
<br />
&nbsp;<br />Details:<br />When: November 13, 2025 at 5:30 PM (Escape Room booked at 7PM)<br />
Where: Picasso's Pizza (621 W Douglas) followed by The Room (617 W Douglas)<br />
Cost: Pizza/beer is free, $25 if you participate in the Escape Room<br />
How to sign up:&nbsp;<a data-saferedirecturl="https://www.google.com/url?q=https://www.surveymonkey.com/r/DKDGCTP&amp;source=gmail&amp;ust=1762012883961000&amp;usg=AOvVaw3IQZJB-7niCpSJG11wk44k" href="https://www.surveymonkey.com/r/DKDGCTP" target="_blank">RSVP Here!</a><br />
How to pay: Please pay us for the Escape Room via Square at this&nbsp;<a data-saferedirecturl="https://www.google.com/url?q=https://square.link/u/rMhyJCny?src%3Dsheet&amp;source=gmail&amp;ust=1762012883961000&amp;usg=AOvVaw3C3dRDOdKWSKYV1lq7S5Qs" href="https://square.link/u/rMhyJCny?src=sheet" target="_blank">link</a>.<br />Location:<br />Picasso's Pizza followed by The Room<br />621 W Douglas Ave<br />Wichita, KS 67213
PRIORITY:3
TRANSP:TRANSPARENT
BEGIN:VALARM
TRIGGER:-PT5M
ACTION:DISPLAY
DESCRIPTION:Reminder
END:VALARM
END:VEVENT
END:VCALENDAR
