BEGIN:VCALENDAR
VERSION:2.0
CALSCALE:GREGORIAN
METHOD:PUBLISH
PRODID://SFTE//461285
BEGIN:VEVENT
DTSTAMP:20260420T024824
VTIMEZONE:America/Chicago
DTSTART:20251107T000000Z
DTEND:20251107T030000Z
UID:461285
SUMMARY:North Texas Chapter Annual Business Meeting
LOCATION:Joe T. Garcia's / https://meet.google.com/hqp-hisr-dfs, 2201 N Commerce St, Fort Worth, TX, 76164
DESCRIPTION:North Texas Chapter Annual Business Meeting\n\n11/06/25 06:00 PM CST\n - 11/06/25 09:00 PM CST\Description:\nPlease join us for our annual business meeting at Joe T. Garcia's/online. General agenda:\n\n	2025 summary (events, membership, financial)\n	Submit a motion to update officer terms in the bylaws to 2 years (current limit is 1 year).\n	Submit a motion to extend the current officers' terms to complete the authorized two-year term. This is to improve continuity with chapter initiatives, particularly with 2026 Symposium planning.\n	Review proposed updated bylaws\n	2026 lookahead\n	2026 symposium planning\n	Old business\n	Adjournment\n\n\nhttps://meet.google.com/hqp-hisr-dfs\Details:\nPlease join us for our annual business meeting at Joe T. Garcia's/online. General agenda:\n\n	2025 summary (events, membership, financial)\n	Submit a motion to update officer terms in the bylaws to 2 years (current limit is 1 year).\n	Submit a motion to extend the current officers' terms to complete the authorized two-year term. This is to improve continuity with chapter initiatives, particularly with 2026 Symposium planning.\n	Review proposed updated bylaws\n	2026 lookahead\n	2026 symposium planning\n	Old business\n	Adjournment\n\n\Location:\nJoe T. Garcia's / https://meet.google.com/hqp-hisr-dfs\n2201 N Commerce St\nFort Worth, TX 76164
X-ALT-DESC;FMTTYPE=text/html:North Texas Chapter Annual Business Meeting<br /><br />11/06/25 06:00 PM CST - 11/06/25 09:00 PM CST<br />Description:<br />Please join us for our annual business meeting at Joe T. Garcia's/online. General agenda:
<ol>
	<li>2025&nbsp;summary (events, membership, financial)</li>
	<li>Submit a motion to update officer terms in the bylaws to 2 years (current limit is 1 year).</li>
	<li>Submit a motion to extend the current officers' terms to complete the authorized two-year term. This is to improve continuity with chapter initiatives, particularly with 2026 Symposium planning.</li>
	<li>Review proposed updated bylaws</li>
	<li>2026&nbsp;lookahead</li>
	<li>2026 symposium planning</li>
	<li>Old business</li>
	<li>Adjournment</li>
</ol>
<br />
<a href="https://meet.google.com/hqp-hisr-dfs">https://meet.google.com/hqp-hisr-dfs</a><br />Details:<br />Please join us for our annual business meeting at Joe T. Garcia's/online. General agenda:
<ol>
	<li>2025&nbsp;summary (events, membership, financial)</li>
	<li>Submit a motion to update officer terms in the bylaws to 2 years (current limit is 1 year).</li>
	<li>Submit a motion to extend the current officers' terms to complete the authorized two-year term. This is to improve continuity with chapter initiatives, particularly with 2026 Symposium planning.</li>
	<li>Review proposed updated bylaws</li>
	<li>2026&nbsp;lookahead</li>
	<li>2026 symposium planning</li>
	<li>Old business</li>
	<li>Adjournment</li>
</ol>
<br />Location:<br />Joe T. Garcia's / https://meet.google.com/hqp-hisr-dfs<br />2201 N Commerce St<br />Fort Worth, TX 76164
PRIORITY:3
TRANSP:TRANSPARENT
BEGIN:VALARM
TRIGGER:-PT5M
ACTION:DISPLAY
DESCRIPTION:Reminder
END:VALARM
END:VEVENT
END:VCALENDAR
