BEGIN:VCALENDAR
VERSION:2.0
CALSCALE:GREGORIAN
METHOD:PUBLISH
PRODID://SFTE//454289
BEGIN:VEVENT
DTSTAMP:20260420T012408
VTIMEZONE:America/Los_Angeles
DTSTART:20251114T163000Z
DTEND:20251114T180000Z
UID:454289
SUMMARY:SFTE Board of Director Meeting
LOCATION:
DESCRIPTION:SFTE Board of Director Meeting\n\n11/14/25 08:30 AM PST\n - 11/14/25 10:00 AM PST\Description:\nMonthly Board of Directors Meeting.\n\nFor dial in details please contact secretary@sfte.org
X-ALT-DESC;FMTTYPE=text/html:SFTE Board of Director Meeting<br /><br />11/14/25 08:30 AM PST - 11/14/25 10:00 AM PST<br />Description:<br />Monthly Board of Directors Meeting.<br />
<br />
For dial in details please contact <a href="mailto:secretary@sfte.org">secretary@sfte.org</a>
PRIORITY:3
TRANSP:TRANSPARENT
BEGIN:VALARM
TRIGGER:-PT5M
ACTION:DISPLAY
DESCRIPTION:Reminder
END:VALARM
END:VEVENT
END:VCALENDAR
