BEGIN:VCALENDAR
VERSION:2.0
CALSCALE:GREGORIAN
METHOD:PUBLISH
PRODID://SFTE//453375
BEGIN:VEVENT
DTSTAMP:20260424T060413
VTIMEZONE:America/Phoenix
DTSTART:20251107T010000Z
DTEND:20251107T020000Z
UID:453375
SUMMARY:Arizona Chapter - Monthly Virtual Meeting / Chat
LOCATION:
DESCRIPTION:Arizona Chapter - Monthly Virtual Meeting / Chat\n\n11/06/25 06:00 PM MT\n - 11/06/25 07:00 PM MT\Description:\nhttps://meet.google.com/csn-vjcg-jxa?hs=224
X-ALT-DESC;FMTTYPE=text/html:Arizona Chapter - Monthly Virtual Meeting / Chat<br /><br />11/06/25 06:00 PM MT - 11/06/25 07:00 PM MT<br />Description:<br /><a href="https://meet.google.com/csn-vjcg-jxa?hs=224">https://meet.google.com/csn-vjcg-jxa?hs=224</a>
PRIORITY:3
TRANSP:TRANSPARENT
BEGIN:VALARM
TRIGGER:-PT5M
ACTION:DISPLAY
DESCRIPTION:Reminder
END:VALARM
END:VEVENT
END:VCALENDAR
