BEGIN:VCALENDAR
VERSION:2.0
CALSCALE:GREGORIAN
METHOD:PUBLISH
PRODID://SFTE//401247
BEGIN:VEVENT
DTSTAMP:20260419T233720
VTIMEZONE:America/Los_Angeles
DTSTART:20251104T080000Z
DTEND:20251105T080000Z
UID:401247
SUMMARY:European Flight Test Safety Workshop
LOCATION:Trieste, Italy, Riva del Mandracchio, 4, Trieste, It, 34124
DESCRIPTION:European Flight Test Safety Workshop\n\n11/04/25 12:00 AM PST\n - 11/05/25 12:00 AM PST\Description:\nEuropean Flight Test Safety Workshop, to be held in Trieste, Italy on November 4-5 2025. The event is hosted by Pipistrel.\Details:\nNovember 4: technical presentations.\nNovember 5: technical workshop and technical tour of the Pipistrel's production and flight test facility in Gorizia.\Location:\nTrieste, Italy\nRiva del Mandracchio, 4\nTrieste, It 34124
X-ALT-DESC;FMTTYPE=text/html:European Flight Test Safety Workshop<br /><br />11/04/25 12:00 AM PST - 11/05/25 12:00 AM PST<br />Description:<br />European Flight Test Safety Workshop, to be held in Trieste, Italy on November 4-5 2025. The event is hosted by Pipistrel.<br />Details:<br />November 4: technical presentations.<br />
November 5: technical workshop and technical tour of the Pipistrel's production and flight test facility in Gorizia.<br />Location:<br />Trieste, Italy<br />Riva del Mandracchio, 4<br />Trieste, It 34124
PRIORITY:3
TRANSP:TRANSPARENT
BEGIN:VALARM
TRIGGER:-PT5M
ACTION:DISPLAY
DESCRIPTION:Reminder
END:VALARM
END:VEVENT
END:VCALENDAR
