BEGIN:VCALENDAR
VERSION:2.0
CALSCALE:GREGORIAN
METHOD:PUBLISH
PRODID://SFTE//229939
BEGIN:VEVENT
DTSTAMP:20260424T170018
VTIMEZONE:America/Chicago
DTSTART:20220310T230000Z
DTEND:20220311T010000Z
UID:229939
SUMMARY:Wichita Chapter Social Event
LOCATION:Hangar 1 Steakhouse, 5925 W Kellogg Dr, Wichita, KS, 67209
DESCRIPTION:Wichita Chapter Social Event\n\n03/10/22 05:00 PM CST\n - 03/10/22 07:00 PM CST\Description:\nCome join the Wichita Chapter for a social event at Hangar 1 Stekahouse\Location:\nHangar 1 Steakhouse\n5925 W Kellogg Dr\nWichita, KS 67209
X-ALT-DESC;FMTTYPE=text/html:Wichita Chapter Social Event<br /><br />03/10/22 05:00 PM CST - 03/10/22 07:00 PM CST<br />Description:<br />Come join the Wichita Chapter for a social event at Hangar 1 Stekahouse<br />Location:<br />Hangar 1 Steakhouse<br />5925 W Kellogg Dr<br />Wichita, KS 67209
PRIORITY:3
TRANSP:TRANSPARENT
BEGIN:VALARM
TRIGGER:-PT5M
ACTION:DISPLAY
DESCRIPTION:Reminder
END:VALARM
END:VEVENT
END:VCALENDAR
